BEGIN:VCALENDAR
VERSION:2.0
PRODID:-//Plone.org//NONSGML plone.app.event//EN
X-WR-TIMEZONE:US/Pacific
BEGIN:VEVENT
SUMMARY:Intro to Backpacking Field Trip - Surprise Lake & Warm Lake
DTSTART;VALUE=DATE:20260731
DTEND;VALUE=DATE:20260801
DTSTAMP;VALUE=DATE-TIME:20260419T162250Z
UID:01ba5d220811403ebd6aa5f93c0d39d9
CATEGORIES:Backpacking
DESCRIPTION:* Preference to Tacoma Introduction to Backpacking students Ap
 ril 6-26. Trip will open to all Mountaineers to register on April 27\, 202
 6. Multi-night Backpacking Field Trip.
LOCATION:Surprise Lake & Warm Lake
URL:https://www.mountaineers.org/locations-lodges/tacoma-branch/committees
 /tacoma-hiking-backpacking-committee/course-templates/introduction-to-back
 packing-tacoma/activities/intro-to-backpacking-field-trip-surprise-lake-wa
 rm-lake
END:VEVENT
END:VCALENDAR
