BEGIN:VCALENDAR
VERSION:2.0
PRODID:-//Plone.org//NONSGML plone.app.event//EN
X-WR-TIMEZONE:US/Pacific
BEGIN:VEVENT
SUMMARY:Avalanche Awareness Seminar - Mountaineers Tacoma Program Center
DTSTART;VALUE=DATE:20180109
DTEND;VALUE=DATE:20180110
DTSTAMP;VALUE=DATE-TIME:20260419T180939Z
UID:1274a584281c429fb03383d6cdae24f7
CATEGORIES:Climbing,Backcountry Skiing,Snowshoeing,Avalanche Safety
DESCRIPTION:Avalanche Awareness Seminar
LOCATION:Mountaineers Tacoma Program Center
URL:https://www.mountaineers.org/locations-lodges/tacoma-branch/committees
 /tacoma-climbing-committee/tacoma-climbing-subcommittee-avalanche-educatio
 n/seminars-clinics/avalanche-awareness-seminar-mountaineers-tacoma-program
 -center-1
END:VEVENT
END:VCALENDAR
