BEGIN:VCALENDAR
VERSION:2.0
PRODID:-//Plone.org//NONSGML plone.app.event//EN
X-WR-TIMEZONE:US/Pacific
BEGIN:VEVENT
SUMMARY:Tacoma Scrambling Activity - Conditioner - Mount Si Main Trail
DTSTART;VALUE=DATE:20260421
DTEND;VALUE=DATE:20260422
DTSTAMP;VALUE=DATE-TIME:20260419T155636Z
UID:5fbddc5ff55c457696ac362281f58518
CATEGORIES:Day Hiking
DESCRIPTION:Conditioning hike for students in the Tacoma Basic Scrambling 
 Course.
LOCATION:Mount Si Main Trail
URL:https://www.mountaineers.org/locations-lodges/tacoma-branch/committees
 /tacoma-alpine-scrambling-committee/course-templates/alpine-scrambling-cou
 rse/activities/tacoma-scrambling-activity-conditioner-mount-si-main-trail-
 11
END:VEVENT
END:VCALENDAR
