BEGIN:VCALENDAR
VERSION:2.0
PRODID:-//Plone.org//NONSGML plone.app.event//EN
X-WR-TIMEZONE:US/Pacific
BEGIN:VEVENT
SUMMARY:Winter Trails Day - Methow Valley
DTSTART;VALUE=DATE-TIME:20160108T150000
DTEND;VALUE=DATE-TIME:20160110T170000
DTSTAMP;VALUE=DATE-TIME:20260419T192421Z
UID:9c6a38d0a1924cdba5d0d9a14e9095d9@localhost:6081
CREATED;VALUE=DATE-TIME:20150330T212917Z
DESCRIPTION:Join The Mountaineers for a weekend of enjoyable outdoor activ
 ities in the beautiful Methow Valley in central Washington\, where some of
  the best skiing\, snowshoeing and winter festivities take place every yea
 r! \n\nParts of the valley and other areas of Okanogan County were ravaged
  by wild fires over the summer of 2014 and 2015 but all the winter trails 
 and facilities as well as most of the magical views were unaffected.
LAST-MODIFIED;VALUE=DATE-TIME:20170106T174546Z
LOCATION:Methow Valley
URL:https://www.mountaineers.org/locations-lodges/seattle-program-center/e
 vents/winter-trails-day-methow-valley
END:VEVENT
BEGIN:VTIMEZONE
TZID:America/Los_Angeles
X-LIC-LOCATION:America/Los_Angeles
BEGIN:STANDARD
DTSTART;VALUE=DATE-TIME:20151101T010000
TZNAME:PST
TZOFFSETFROM:-0700
TZOFFSETTO:-0800
END:STANDARD
END:VTIMEZONE
END:VCALENDAR
