BEGIN:VCALENDAR
VERSION:2.0
PRODID:-//Plone.org//NONSGML plone.app.event//EN
X-WR-TIMEZONE:US/Pacific
BEGIN:VEVENT
SUMMARY:Wilderness First Aid (WFA)
DTSTART;VALUE=DATE-TIME:20251025T080000
DTEND;VALUE=DATE-TIME:20251025T170000
DTSTAMP;VALUE=DATE-TIME:20260420T021102Z
UID:415c3ac2cc374badb7a0687c25830a70@localhost:6081
CREATED;VALUE=DATE-TIME:20240209T175106Z
DESCRIPTION:Two-day Wilderness First Aid (WFA) class taught by Remote Medi
 cal Training (RMT)
LAST-MODIFIED;VALUE=DATE-TIME:20250508T235445Z
LOCATION:Seattle Program Center
URL:https://www.mountaineers.org/locations-lodges/seattle-program-center/e
 vents/wfr-recert-course-2024-11-16-2025-10-25
END:VEVENT
BEGIN:VTIMEZONE
TZID:America/Los_Angeles
X-LIC-LOCATION:America/Los_Angeles
BEGIN:DAYLIGHT
DTSTART;VALUE=DATE-TIME:20250309T030000
TZNAME:PDT
TZOFFSETFROM:-0800
TZOFFSETTO:-0700
END:DAYLIGHT
END:VTIMEZONE
END:VCALENDAR
