BEGIN:VCALENDAR
VERSION:2.0
PRODID:-//Plone.org//NONSGML plone.app.event//EN
X-WR-TIMEZONE:US/Pacific
BEGIN:VEVENT
SUMMARY:Walking the Wild Series: Trekking in Patagonia with Steve Yi
DTSTART;VALUE=DATE-TIME:20170601T190000
DTEND;VALUE=DATE-TIME:20170601T210000
DTSTAMP;VALUE=DATE-TIME:20260420T234040Z
UID:911e1788daa649e7ae9780214b86e6ae@localhost:6081
CREATED;VALUE=DATE-TIME:20170111T173617Z
DESCRIPTION:Join Mountaineer Steve Yi for a photo presentation about trekk
 ing in Patagonia\, including logistics\, gear\, info on guiding services\,
  as well as photos\, video\, drone footage and stories from his own trek t
 o Patagonia in Dec 2015.
LAST-MODIFIED;VALUE=DATE-TIME:20171104T165252Z
LOCATION:Seattle Program Center
URL:https://www.mountaineers.org/locations-lodges/seattle-program-center/e
 vents/walking-the-wild-presentation-series
END:VEVENT
BEGIN:VTIMEZONE
TZID:America/Los_Angeles
X-LIC-LOCATION:America/Los_Angeles
BEGIN:DAYLIGHT
DTSTART;VALUE=DATE-TIME:20170312T030000
TZNAME:PDT
TZOFFSETFROM:-0800
TZOFFSETTO:-0700
END:DAYLIGHT
END:VTIMEZONE
END:VCALENDAR
