BEGIN:VCALENDAR
VERSION:2.0
PRODID:-//Plone.org//NONSGML plone.app.event//EN
X-WR-TIMEZONE:US/Pacific
BEGIN:VEVENT
SUMMARY:Walking the Wild Series:  The Hiker’s Haute Route from Chamonix 
 France to Zermatt Switzerland\, with Peter Hendrickson
DTSTART;VALUE=DATE-TIME:20180124T190000
DTEND;VALUE=DATE-TIME:20180124T210000
DTSTAMP;VALUE=DATE-TIME:20260420T234116Z
UID:9293a7c022ea4c51a4ca03b4cdc5d2d8@localhost:6081
CREATED;VALUE=DATE-TIME:20170116T221501Z
DESCRIPTION:Join Mountaineer and world traveler Peter Hendrickson for a ni
 ght of great photos and stories from his trek on the Hiker’s Haute Route
  through the Alps.
LAST-MODIFIED;VALUE=DATE-TIME:20180127T023546Z
LOCATION:Seattle Program Center
URL:https://www.mountaineers.org/locations-lodges/seattle-program-center/e
 vents/walking-the-wild-presentation-series-1
END:VEVENT
BEGIN:VTIMEZONE
TZID:America/Los_Angeles
X-LIC-LOCATION:America/Los_Angeles
BEGIN:STANDARD
DTSTART;VALUE=DATE-TIME:20171105T010000
TZNAME:PST
TZOFFSETFROM:-0700
TZOFFSETTO:-0800
END:STANDARD
END:VTIMEZONE
END:VCALENDAR
