BEGIN:VCALENDAR
VERSION:2.0
PRODID:-//Plone.org//NONSGML plone.app.event//EN
X-WR-TIMEZONE:US/Pacific
BEGIN:VEVENT
SUMMARY:WALKING THE WILD
DTSTART;VALUE=DATE-TIME:20240403T190000
DTEND;VALUE=DATE-TIME:20240403T203000
DTSTAMP;VALUE=DATE-TIME:20260421T014412Z
UID:9bc3931a7b63492198c9843cec3326df@localhost:6081
CREATED;VALUE=DATE-TIME:20230403T153736Z
DESCRIPTION:PRESENTATION EVENT
LAST-MODIFIED;VALUE=DATE-TIME:20240119T234842Z
LOCATION:Seattle Program Center
URL:https://www.mountaineers.org/locations-lodges/seattle-program-center/e
 vents/walking-the-wild-4-2024-04-03
END:VEVENT
BEGIN:VTIMEZONE
TZID:America/Los_Angeles
X-LIC-LOCATION:America/Los_Angeles
BEGIN:DAYLIGHT
DTSTART;VALUE=DATE-TIME:20240310T030000
TZNAME:PDT
TZOFFSETFROM:-0800
TZOFFSETTO:-0700
END:DAYLIGHT
END:VTIMEZONE
END:VCALENDAR
