BEGIN:VCALENDAR
VERSION:2.0
PRODID:-//Plone.org//NONSGML plone.app.event//EN
X-WR-TIMEZONE:US/Pacific
BEGIN:VEVENT
SUMMARY:The Mountaineers Summer Kickoff Party at Mountaineering Club
DTSTART;VALUE=DATE-TIME:20190612T180000
DTEND;VALUE=DATE-TIME:20190612T210000
DTSTAMP;VALUE=DATE-TIME:20260420T234312Z
UID:806b665e04ef494fbec841c367c0928d@localhost:6081
CREATED;VALUE=DATE-TIME:20190515T220358Z
DESCRIPTION:Join The Mountaineers for a summer kickoff party at the new Mo
 untaineering Club on the rooftop of Seattle's Graduate Hotel. Mountaineers
  members will enjoy a free punch cocktail\, plus tasty food and drink spec
 ials\, all while taking in panoramic views of the PNW's awe-inspiring moun
 tains and landscapes.
LAST-MODIFIED;VALUE=DATE-TIME:20190610T205250Z
LOCATION:Mountaineering Club
URL:https://www.mountaineers.org/locations-lodges/seattle-program-center/e
 vents/the-mountaineers-summer-kickoff-party-at-mountaineers-club
END:VEVENT
BEGIN:VTIMEZONE
TZID:America/Los_Angeles
X-LIC-LOCATION:America/Los_Angeles
BEGIN:DAYLIGHT
DTSTART;VALUE=DATE-TIME:20190310T030000
TZNAME:PDT
TZOFFSETFROM:-0800
TZOFFSETTO:-0700
END:DAYLIGHT
END:VTIMEZONE
END:VCALENDAR
