BEGIN:VCALENDAR
VERSION:2.0
PRODID:-//Plone.org//NONSGML plone.app.event//EN
X-WR-TIMEZONE:US/Pacific
BEGIN:VEVENT
SUMMARY:The Mountaineers Board of Directors Meeting October
DTSTART;VALUE=DATE-TIME:20241017T170000
DTEND;VALUE=DATE-TIME:20241017T200000
DTSTAMP;VALUE=DATE-TIME:20260425T172438Z
UID:e8a2bf4699d7481281c50b0d473e2202@localhost:6081
CREATED;VALUE=DATE-TIME:20241010T185130Z
DESCRIPTION:October's Meeting of the Board of Directors
LAST-MODIFIED;VALUE=DATE-TIME:20241029T222519Z
LOCATION:Seattle Program Center
URL:https://www.mountaineers.org/locations-lodges/seattle-program-center/e
 vents/the-mountaineers-board-of-directors-meeting-october
END:VEVENT
BEGIN:VTIMEZONE
TZID:America/Los_Angeles
X-LIC-LOCATION:America/Los_Angeles
BEGIN:DAYLIGHT
DTSTART;VALUE=DATE-TIME:20240310T030000
TZNAME:PDT
TZOFFSETFROM:-0800
TZOFFSETTO:-0700
END:DAYLIGHT
END:VTIMEZONE
END:VCALENDAR
