BEGIN:VCALENDAR
VERSION:2.0
PRODID:-//Plone.org//NONSGML plone.app.event//EN
X-WR-TIMEZONE:US/Pacific
BEGIN:VEVENT
SUMMARY:The Mountaineers Virtual Annual Meeting 2022
DTSTART;VALUE=DATE-TIME:20220913T180000
DTEND;VALUE=DATE-TIME:20220913T193000
DTSTAMP;VALUE=DATE-TIME:20260420T095538Z
UID:2fd341572cea4a85923d6f636b36fb7f@localhost:6081
CREATED;VALUE=DATE-TIME:20200102T172319Z
DESCRIPTION:Call-in to The Mountaineers Annual Meeting to hear about the s
 tate of the organization from staff and board members and hear updates on 
 the status of The Mountaineers strategic Plan.
LAST-MODIFIED;VALUE=DATE-TIME:20220920T235707Z
LOCATION:Zoom Video Presentation
URL:https://www.mountaineers.org/locations-lodges/seattle-program-center/e
 vents/the-mountaineers-annual-meeting-2021-2022-09-13
END:VEVENT
BEGIN:VTIMEZONE
TZID:America/Los_Angeles
X-LIC-LOCATION:America/Los_Angeles
BEGIN:DAYLIGHT
DTSTART;VALUE=DATE-TIME:20220313T030000
TZNAME:PDT
TZOFFSETFROM:-0800
TZOFFSETTO:-0700
END:DAYLIGHT
END:VTIMEZONE
END:VCALENDAR
