BEGIN:VCALENDAR
VERSION:2.0
PRODID:-//Plone.org//NONSGML plone.app.event//EN
X-WR-TIMEZONE:US/Pacific
BEGIN:VEVENT
SUMMARY:Jeremy Jones - The Art of Shralpinism
DTSTART;VALUE=DATE-TIME:20221110T190000
DTEND;VALUE=DATE-TIME:20221110T210000
DTSTAMP;VALUE=DATE-TIME:20260422T042150Z
UID:944670373e254e83b505a2c491b5315e@localhost:6081
CREATED;VALUE=DATE-TIME:20220908T175659Z
DESCRIPTION:Join us in welcoming Mountaineers Books author Jeremy Jones fo
 r an evening about his new book\, "The Art of Shralpinism\," and the life-
 changing power of time in the mountains with Seattle Times outdoors report
 er Gregory Scruggs.
LAST-MODIFIED;VALUE=DATE-TIME:20221110T160905Z
LOCATION:Seattle Program Center
URL:https://www.mountaineers.org/locations-lodges/seattle-program-center/e
 vents/the-art-of-shralpinism-nov-10
END:VEVENT
BEGIN:VTIMEZONE
TZID:America/Los_Angeles
X-LIC-LOCATION:America/Los_Angeles
BEGIN:STANDARD
DTSTART;VALUE=DATE-TIME:20221106T010000
TZNAME:PST
TZOFFSETFROM:-0700
TZOFFSETTO:-0800
END:STANDARD
END:VTIMEZONE
END:VCALENDAR
