BEGIN:VCALENDAR
VERSION:2.0
PRODID:-//Plone.org//NONSGML plone.app.event//EN
X-WR-TIMEZONE:US/Pacific
BEGIN:VEVENT
SUMMARY:Teton Gravity Research Backcountry Ski Film Slam
DTSTART;VALUE=DATE-TIME:20221117T190000
DTEND;VALUE=DATE-TIME:20221117T210000
DTSTAMP;VALUE=DATE-TIME:20260420T234148Z
UID:babce626e1f146d38ed28fd7e9358a83@localhost:6081
CREATED;VALUE=DATE-TIME:20220912T194933Z
DESCRIPTION:Join the Seattle Backcountry Ski Committee for its inaugural e
 vent - a film screening of two great Ski Films produced by Teton Gravity R
 esearch!  Come meet up with friends\, have a beer\, and build the stoke fo
 r the upcoming ski season.
LAST-MODIFIED;VALUE=DATE-TIME:20221117T233743Z
LOCATION:Seattle Program Center
URL:https://www.mountaineers.org/locations-lodges/seattle-program-center/e
 vents/teton-gravity-research-backcountry-ski-film-slam
END:VEVENT
BEGIN:VTIMEZONE
TZID:America/Los_Angeles
X-LIC-LOCATION:America/Los_Angeles
BEGIN:STANDARD
DTSTART;VALUE=DATE-TIME:20221106T010000
TZNAME:PST
TZOFFSETFROM:-0700
TZOFFSETTO:-0800
END:STANDARD
END:VTIMEZONE
END:VCALENDAR
