BEGIN:VCALENDAR
VERSION:2.0
PRODID:-//Plone.org//NONSGML plone.app.event//EN
X-WR-TIMEZONE:US/Pacific
BEGIN:VEVENT
SUMMARY:Intro to Wildlife Photography
DTSTART;VALUE=DATE-TIME:20191116T100000
DTEND;VALUE=DATE-TIME:20191116T120000
DTSTAMP;VALUE=DATE-TIME:20260420T020957Z
UID:1d37340a313a44d99f9d073f22aed7f4@localhost:6081
CREATED;VALUE=DATE-TIME:20190918T192117Z
DESCRIPTION:This class will include a lecture and a field trip on taking p
 hotographs of wildlife.
LAST-MODIFIED;VALUE=DATE-TIME:20191112T204821Z
LOCATION:Seattle Program Center
URL:https://www.mountaineers.org/locations-lodges/seattle-program-center/e
 vents/tentative-wildlife-photography-workshop
END:VEVENT
BEGIN:VTIMEZONE
TZID:America/Los_Angeles
X-LIC-LOCATION:America/Los_Angeles
BEGIN:STANDARD
DTSTART;VALUE=DATE-TIME:20191103T010000
TZNAME:PST
TZOFFSETFROM:-0700
TZOFFSETTO:-0800
END:STANDARD
END:VTIMEZONE
END:VCALENDAR
