BEGIN:VCALENDAR
VERSION:2.0
PRODID:-//Plone.org//NONSGML plone.app.event//EN
X-WR-TIMEZONE:US/Pacific
BEGIN:VEVENT
SUMMARY:Spring Gear Grab
DTSTART;VALUE=DATE-TIME:20260526T180000
DTEND;VALUE=DATE-TIME:20260526T200000
DTSTAMP;VALUE=DATE-TIME:20260422T212013Z
UID:7c7670ef3ff74740805fa925dc004b88@localhost:6081
CREATED;VALUE=DATE-TIME:20250210T205811Z
DESCRIPTION:Join us to buy and sell outdoor gear while supporting The Moun
 taineers mission!
LAST-MODIFIED;VALUE=DATE-TIME:20260420T211900Z
LOCATION:Seattle Program Center
URL:https://www.mountaineers.org/locations-lodges/seattle-program-center/e
 vents/spring-gear-grab-1
END:VEVENT
BEGIN:VTIMEZONE
TZID:America/Los_Angeles
X-LIC-LOCATION:America/Los_Angeles
BEGIN:DAYLIGHT
DTSTART;VALUE=DATE-TIME:20260308T030000
TZNAME:PDT
TZOFFSETFROM:-0800
TZOFFSETTO:-0700
END:DAYLIGHT
END:VTIMEZONE
END:VCALENDAR
