BEGIN:VCALENDAR
VERSION:2.0
PRODID:-//Plone.org//NONSGML plone.app.event//EN
X-WR-TIMEZONE:US/Pacific
BEGIN:VEVENT
SUMMARY:Special Edition Beta & Brews: K2 40th Anniversary Celebration
DTSTART;VALUE=DATE-TIME:20180911T170000
DTEND;VALUE=DATE-TIME:20180911T210000
DTSTAMP;VALUE=DATE-TIME:20260420T234116Z
UID:26cdd8a6d6e640618b0f375b87c3df18@localhost:6081
CREATED;VALUE=DATE-TIME:20180724T214115Z
DESCRIPTION:REI Co-op is co-hosting this special edition Beta & Brews at t
 he Seattle Flagship store. The event will kick off with a happy hour at 5p
 m on the outdoor terrace with free bites and beer specials. Attendees will
  move upstairs at 6pm to hear epic stories and climbing beta from Jim Wick
 wire\, a summiter on the historic 1978 team\, and esteemed alpinist\, auth
 or\, and K2 veteran Steve Swenson.\n\nStunning pictures\, unforgettable ad
 ventures\, and epic tales of near-misses will be shared. \n
LAST-MODIFIED;VALUE=DATE-TIME:20180910T164711Z
LOCATION:REI Co-op flagship store
URL:https://www.mountaineers.org/locations-lodges/seattle-program-center/e
 vents/special-edition-beta-brews-k2-40th-anniversary-celebration
END:VEVENT
BEGIN:VTIMEZONE
TZID:America/Los_Angeles
X-LIC-LOCATION:America/Los_Angeles
BEGIN:DAYLIGHT
DTSTART;VALUE=DATE-TIME:20180311T030000
TZNAME:PDT
TZOFFSETFROM:-0800
TZOFFSETTO:-0700
END:DAYLIGHT
END:VTIMEZONE
END:VCALENDAR
