BEGIN:VCALENDAR
VERSION:2.0
PRODID:-//Plone.org//NONSGML plone.app.event//EN
X-WR-TIMEZONE:US/Pacific
BEGIN:VEVENT
SUMMARY:Seattle Snowshoe Graduate and Season Ending Celebration
DTSTART;VALUE=DATE-TIME:20160420T183000
DTEND;VALUE=DATE-TIME:20160420T203000
DTSTAMP;VALUE=DATE-TIME:20260420T234148Z
UID:a955eaf695624616815fd93e64cfcb2c@localhost:6081
CREATED;VALUE=DATE-TIME:20160104T080358Z
DESCRIPTION:A gathering of snowshoers\, students\, graduates\, and trip le
 aders to celebrate!\n\n
LAST-MODIFIED;VALUE=DATE-TIME:20160420T165655Z
LOCATION:Seattle Program Center
URL:https://www.mountaineers.org/locations-lodges/seattle-program-center/e
 vents/seattle-snowshoe-graduate-and-season-ending-celebration
END:VEVENT
BEGIN:VTIMEZONE
TZID:America/Los_Angeles
X-LIC-LOCATION:America/Los_Angeles
BEGIN:DAYLIGHT
DTSTART;VALUE=DATE-TIME:20160313T030000
TZNAME:PDT
TZOFFSETFROM:-0800
TZOFFSETTO:-0700
END:DAYLIGHT
END:VTIMEZONE
END:VCALENDAR
