BEGIN:VCALENDAR
PRODID:-//Mountaineers.org//ICalendar Support
VERSION:2.0
METHOD:PUBLISH
BEGIN:VEVENT
DTSTAMP:20260423T011652Z
CREATED:20251217T141634Z
UID:ATEvent-154579c9bedf4abbaad1e8493c2801d9
LAST-MODIFIED:20260320T151108Z
SUMMARY:Ultralight Backpacking Workshop
DTSTART:20260424T020000Z
DTEND:20260424T033000Z
DESCRIPTION:Overview presentation\, hands-on work session with gear de
 mo\, and chance to meet other aspiring UL backpackers!
CATEGORIES:Foothills Branch, home page, Member Events
CLASS:PUBLIC
END:VEVENT
BEGIN:VEVENT
DTSTAMP:20260423T011652Z
CREATED:20260303T162847Z
UID:ATEvent-9308392b1a8840cf844c9d3538b19402
LAST-MODIFIED:20260422T164506Z
SUMMARY:Freeze Dried Food Tasting Potluck
DTSTART:20260429T013000Z
DTEND:20260429T033000Z
DESCRIPTION:Potluck style event where we will cook\, taste\, and revie
 w various freeze-dried backpacking meals together.
CATEGORIES:Seattle Branch, Member Events, Home Page
CLASS:PUBLIC
END:VEVENT
BEGIN:VEVENT
DTSTAMP:20260423T011652Z
CREATED:20260106T012433Z
UID:ATEvent-4ad5dc231aff40429f0024dc7fbd596c
LAST-MODIFIED:20260106T012700Z
SUMMARY:SPC Opening and Closing Clinic
DTSTART:20260506T003000Z
DTEND:20260506T013000Z
DESCRIPTION:Small gathering of course leadership to show them new outd
 oor resources for hosting courses at the SPC.
CATEGORIES:Seattle Program Center, Public Events
CLASS:PUBLIC
END:VEVENT
BEGIN:VEVENT
DTSTAMP:20260423T011652Z
CREATED:20250301T153637Z
UID:ATEvent-11a84d112f234bdcbaf6e3e11b3457a4
LAST-MODIFIED:20250410T232227Z
SUMMARY:Introduction to Extended Backpacking
DTSTART:20260514T013000Z
DTEND:20260514T040000Z
DESCRIPTION:For backpackers with experience on shorter trips\, this ev
 ening seminar helps to bridge the gap between weekend trips of 2-3 nig
 hts and longer trips of 5-8 nights\, including how to prepare and pack
  gear\, clothing\, and food. Experienced long-trip backpackers will sh
 are their experience and show you how they pack for various long trips
  around the Northwest.
CATEGORIES:Seattle Branch, Programs & Meetings, Backpacking, Home Page
CLASS:PUBLIC
END:VEVENT
BEGIN:VEVENT
DTSTAMP:20260423T011652Z
CREATED:20260223T194902Z
UID:ATEvent-56295a863e924dd899a12bebbf4dffab
LAST-MODIFIED:20260225T015204Z
SUMMARY:Meet The Mountaineers Info Session - May 13\, 2026
DTSTART:20260514T020000Z
DTEND:20260514T033000Z
DESCRIPTION:For new and potential members looking to learn more about 
 what The Mountaineers has to offer.
CATEGORIES:Seattle Branch, Home Page, Public Events, Everett Branch, Foothills Branch, Meet the Mountaineers, Member Events, Seattle Program Center, New Member Events
CLASS:PUBLIC
END:VEVENT
BEGIN:VEVENT
DTSTAMP:20260423T011652Z
CREATED:20250925T162458Z
UID:ATEvent-e9122f161f62401f8697a7fc5dc5c20f
LAST-MODIFIED:20260205T125233Z
SUMMARY:CANCELED - Open Climb Night
DTSTART:20260516T010000Z
DTEND:20260516T040000Z
DESCRIPTION:Join fellow Mountaineers and guests for an evening of top-
 rope climbing. This session focuses on community and skill-sharing\, u
 tilizing our indoor facilities with the possibility of moving outdoors
  if the weather permits.
CATEGORIES:Seattle Branch, Member Events, Home Page
CLASS:PUBLIC
END:VEVENT
BEGIN:VEVENT
DTSTAMP:20260423T011652Z
CREATED:20250210T205811Z
UID:ATEvent-7c7670ef3ff74740805fa925dc004b88
LAST-MODIFIED:20260420T211900Z
SUMMARY:Spring Gear Grab
DTSTART:20260527T010000Z
DTEND:20260527T030000Z
DESCRIPTION:Join us to buy and sell outdoor gear while supporting The 
 Mountaineers mission!
CATEGORIES:Gear Grab, Member Events, Public Events, home page
CLASS:PUBLIC
END:VEVENT
BEGIN:VEVENT
DTSTAMP:20260423T011652Z
CREATED:20260106T012439Z
UID:ATEvent-fba1b22035c24cd694a3bd218b4ebd57
LAST-MODIFIED:20260106T012716Z
SUMMARY:SPC Opening and Closing Clinic
DTSTART:20260603T003000Z
DTEND:20260603T013000Z
DESCRIPTION:Small gathering of course leadership to show them new outd
 oor resources for hosting courses at the SPC.
CATEGORIES:Seattle Program Center, Public Events
CLASS:PUBLIC
END:VEVENT
BEGIN:VEVENT
DTSTAMP:20260423T011652Z
CREATED:20250925T162501Z
UID:ATEvent-c4fc2e0c56f049fc95cf9eae26cd513c
LAST-MODIFIED:20260130T195622Z
SUMMARY:Open Climb Night
DTSTART:20260620T010000Z
DTEND:20260620T040000Z
DESCRIPTION:Join fellow Mountaineers and guests for an evening of top-
 rope climbing. This session focuses on community and skill-sharing\, u
 tilizing our indoor facilities with the possibility of moving outdoors
  if the weather permits.
CATEGORIES:Seattle Branch, Member Events, Home Page
CLASS:PUBLIC
END:VEVENT
BEGIN:VEVENT
DTSTAMP:20260423T011652Z
CREATED:20260403T235642Z
UID:ATEvent-f7c29147d6504daea534511552c9c716
LAST-MODIFIED:20260406T203600Z
SUMMARY:Summer Solstice and Kundalini Yoga with Gongs Event
DTSTART:20260620T160000Z
DTEND:20260620T190000Z
DESCRIPTION:Welcome in the much-anticipated Summer Solstice (yay\, war
 mer weather!) and an introduction to Kundalini Yoga and a short gong s
 ession at the end.  ****Please do not register on this event page\, Si
 gn up post will be in the "Urban Walks" in early late April (mark your
  calendars).
CATEGORIES:Seattle Branch, Programs & Meetings, Home Page, Public Events, Foothills Branch
CLASS:PUBLIC
END:VEVENT
BEGIN:VEVENT
DTSTAMP:20260423T011652Z
CREATED:20260220T193902Z
UID:ATEvent-b3d4344d481f474e90c081a427b5048b
LAST-MODIFIED:20260403T143748Z
SUMMARY:Glacier Climbing & Crevasse Rescue with Ian Nicholson
DTSTART:20260623T013000Z
DTEND:20260623T033000Z
DESCRIPTION:Join Ian Nicholson\, IFMGA guide and author of "Glacier Cl
 imbing & Crevasse Rescue: Essential Skills for Snow Travel"\, for a fr
 ee clinic detailing important glacier climbing and crevasse rescue tec
 hniques.
CATEGORIES:Seattle Branch, Everett Branch, Everett Climbing, Alpine Climbing, Basic Alpine Climbing, Glacier Climbing, Home Page, Member Events, Mountaineers Books, Author Events, Mountaineers Books Author, Public Events, Adventure Speaker
CLASS:PUBLIC
END:VEVENT
BEGIN:VEVENT
DTSTAMP:20260423T011652Z
CREATED:20260106T012444Z
UID:ATEvent-c6930b5c5afb43ae815e404b649a8ef7
LAST-MODIFIED:20260106T012753Z
SUMMARY:SPC Opening and Closing Clinic
DTSTART:20260708T003000Z
DTEND:20260708T013000Z
DESCRIPTION:Small gathering of course leadership to show them new outd
 oor resources for hosting courses at the SPC.
CATEGORIES:Seattle Program Center, Public Events
CLASS:PUBLIC
END:VEVENT
BEGIN:VEVENT
DTSTAMP:20260423T011652Z
CREATED:20260129T230122Z
UID:ATEvent-29a2421732b04b8698ec7e203a696f2d
LAST-MODIFIED:20260402T181750Z
SUMMARY:BeWild Speaker Series: Guardians of Life With Kiliii Yüyan
DTSTART:20260724T020000Z
DTEND:20260724T040000Z
DESCRIPTION:Details coming soon.
CATEGORIES:Seattle Branch, BeWild, Mountaineers Books, Public Events, Member Events, Photography, Conservation, Everett Branch, Foothills Branch, Adventure Speaker, home page
CLASS:PUBLIC
END:VEVENT
BEGIN:VEVENT
DTSTAMP:20260423T011652Z
CREATED:20260106T012446Z
UID:ATEvent-f68dc22210694514b053345a04d158e7
LAST-MODIFIED:20260106T013029Z
SUMMARY:SPC Opening and Closing Clinic
DTSTART:20260805T003000Z
DTEND:20260805T013000Z
DESCRIPTION:Small gathering of course leadership to show them new outd
 oor resources for hosting courses at the SPC.
CATEGORIES:Seattle Program Center, Public Events
CLASS:PUBLIC
END:VEVENT
BEGIN:VEVENT
DTSTAMP:20260423T011652Z
CREATED:20260106T012449Z
UID:ATEvent-3460ba17c67c491bb00fb22a7bbb82de
LAST-MODIFIED:20260108T203443Z
SUMMARY:SPC Opening and Closing Clinic
DTSTART:20260909T003000Z
DTEND:20260909T013000Z
DESCRIPTION:Small gathering of course leadership to show them new outd
 oor resources for hosting courses at the SPC.
CATEGORIES:Seattle Program Center, Public Events
CLASS:PUBLIC
END:VEVENT
BEGIN:VEVENT
DTSTAMP:20260423T011652Z
CREATED:20251208T190751Z
UID:ATEvent-839882c0f1804c8aac23f8219621e836
LAST-MODIFIED:20260306T192844Z
SUMMARY:Seattle Pathfinders - Open House for Prospective Members
DTSTART:20260910T010000Z
DTEND:20260910T030000Z
DESCRIPTION:The Pathfinders New Information Seminar is an open house f
 or prospective students (1st - 4th grade) and their families to learn 
 more about the program from staff and returning students and their fam
 ilies.
CATEGORIES:Seattle Branch, Programs & Meetings, New Member Events, Home Page, Seattle Pathfinders, Member Events
CLASS:PUBLIC
END:VEVENT
BEGIN:VEVENT
DTSTAMP:20260423T011652Z
CREATED:20251208T191219Z
UID:ATEvent-b144201263ef4e4ea5ceadd0182c89d1
LAST-MODIFIED:20260306T192817Z
SUMMARY:Seattle Explorers & Jr. MAC - Open House for Prospective Members
DTSTART:20260917T010000Z
DTEND:20260917T030000Z
DESCRIPTION:The Explorers & Jr. MAC New Information Seminar is an open
  house for prospective students (5th - 8th grade) and their families t
 o learn more about the program from staff and returning students.
CATEGORIES:Seattle Branch, Programs & Meetings, Seattle Explorers, Seattle Jr. MAC, New Member Events, Home Page, Foothills Branch, Everett Branch, Member Events
CLASS:PUBLIC
END:VEVENT
BEGIN:VEVENT
DTSTAMP:20260423T011652Z
CREATED:20260106T012452Z
UID:ATEvent-2a5782f5b46d46deb8ae2b8d82abfdb5
LAST-MODIFIED:20260108T203444Z
SUMMARY:SPC Opening and Closing Clinic
DTSTART:20261007T003000Z
DTEND:20261007T013000Z
DESCRIPTION:Small gathering of course leadership to show them new outd
 oor resources for hosting courses at the SPC.
CATEGORIES:Seattle Program Center, Public Events
CLASS:PUBLIC
END:VEVENT
BEGIN:VEVENT
DTSTAMP:20260423T011652Z
CREATED:20260129T230252Z
UID:ATEvent-0f9434d440d04db8b78e06cc61a1228b
LAST-MODIFIED:20260204T195636Z
SUMMARY:Bikes & Brews Series- Biketouring the Northern Tier route with Joyce Holloway
DTSTART:20261023T013000Z
DTEND:20261023T033000Z
DESCRIPTION:In the first of the 2026-2027 edition of Bikes and Brews c
 ome to hear from Joyce Holloway about her 2025 solo unsupported bike t
 our on the Northern Tier route from Bar Harbor Maine to Anacortes\, Wa
 shington. Description: Join Joyce as she shares weather\, bike and tec
 hnology problems and people encounters that contribute  to what made t
 his a 49 day/4300 mile adventure across the US. She will share detail 
 and invite questions for the curious or those interested in putting to
 gether their own tour.
CATEGORIES:Seattle Branch, Member Events, home page, Adventure Speaker
CLASS:PUBLIC
END:VEVENT
BEGIN:VEVENT
DTSTAMP:20260423T011652Z
CREATED:20260106T012455Z
UID:ATEvent-8f541aac543342f893a41e83f9f25e21
LAST-MODIFIED:20260107T213657Z
SUMMARY:SPC Opening and Closing Clinic
DTSTART:20261103T013000Z
DTEND:20261103T023000Z
DESCRIPTION:Small gathering of course leadership to show them new outd
 oor resources for hosting courses at the SPC.
CATEGORIES:Seattle Program Center, Public Events
CLASS:PUBLIC
END:VEVENT
BEGIN:VEVENT
DTSTAMP:20260423T011652Z
CREATED:20260115T231107Z
UID:ATEvent-d628705b81434b1fa4ce73e656cd7c00
LAST-MODIFIED:20260204T195657Z
SUMMARY:Bikes & Brews Series- Bikepacking the Great Allegheny Passage and C&O Canal Towpath with Susan Fleenor and Lyssa Smith
DTSTART:20261113T023000Z
DTEND:20261113T043000Z
DESCRIPTION:Come and join us in November to hear Susan Fleenor and Lys
 sa Smith share their experience biking a unique route in the eastern U
 .S.  combining the Great Allegheny Passage (GAP) and Chesapeake & Ohio
  (C&O) Towpath trails.
CATEGORIES:Seattle Branch, Event, Bikepacking, Home Page, Member Events, Adventure Speaker
CLASS:PUBLIC
END:VEVENT
BEGIN:VEVENT
DTSTAMP:20260423T011652Z
CREATED:20251208T194451Z
UID:ATEvent-fd8d7d658ee24ffea666b911be86cee6
LAST-MODIFIED:20260108T191356Z
SUMMARY:VIBE Outside Youth Conference
DTSTART:20261121T170000Z
DTEND:20261121T230000Z
DESCRIPTION:This November\, MAC students are organizing a youth outdoo
 r leadership conference\, and we’d love to invite any high school aged
  youth to join us. What makes this event special is that it’s entirely
  student-led and student-driven (with adult speakers). A youth committ
 ee has designed every aspect of the conference—the name\, program trac
 ks\, flyer\, schedule\, and speaker lineup.
CATEGORIES:Seattle MAC, Home Page, Outdoor Leadership, Family, Youth, Member Events, Olympia MAC, Tacoma MAC
CLASS:PUBLIC
END:VEVENT
BEGIN:VEVENT
DTSTAMP:20260423T011652Z
CREATED:20260106T012457Z
UID:ATEvent-94c657e1197d4dcfae3d52a3b75a5b4a
LAST-MODIFIED:20260107T213713Z
SUMMARY:SPC Opening and Closing Clinic
DTSTART:20261202T013000Z
DTEND:20261202T023000Z
DESCRIPTION:Small gathering of course leadership to show them new outd
 oor resources for hosting courses at the SPC.
CATEGORIES:Seattle Program Center, Public Events
CLASS:PUBLIC
END:VEVENT
BEGIN:VEVENT
DTSTAMP:20260423T011652Z
CREATED:20250213T232555Z
UID:ATEvent-ff8fbbd9c9f249cea29e236b13f35273
LAST-MODIFIED:20260414T204221Z
SUMMARY:North Sound Leadership Conference
DTSTART:20261205T160000Z
DTEND:20261206T000000Z
DESCRIPTION:The annual Leadership Conference is a fun day of professio
 nal development dedicated to thanking\, inspiring and empowering the M
 ountaineers’ current and aspiring volunteer leaders.
CATEGORIES:Seattle Branch, Leadership, Everett Branch, Foothills Branch, Bellingham Branch, Member Events, Home Page
CLASS:PUBLIC
END:VEVENT
END:VCALENDAR
