BEGIN:VCALENDAR
VERSION:2.0
PRODID:-//Plone.org//NONSGML plone.app.event//EN
X-WR-TIMEZONE:US/Pacific
BEGIN:VEVENT
SUMMARY:Seattle Youth Clubs - Holiday Party
DTSTART;VALUE=DATE-TIME:20271208T180000
DTEND;VALUE=DATE-TIME:20271208T200000
DTSTAMP;VALUE=DATE-TIME:20260422T053338Z
UID:5b955f4b37604eaf95554d72eea1b2fa@localhost:6081
CREATED;VALUE=DATE-TIME:20251208T191659Z
DESCRIPTION:Holiday Party Potluck style for our Seattle Youth Club familie
 s: Nomads\, Pathfinders\, Explorers\, Jr. Mac.
LAST-MODIFIED;VALUE=DATE-TIME:20260209T201007Z
LOCATION:Seattle Program Center
URL:https://www.mountaineers.org/locations-lodges/seattle-program-center/e
 vents/seattle-nomad-pathfinders-general-meeting-12-2027-12-08
END:VEVENT
BEGIN:VTIMEZONE
TZID:America/Los_Angeles
X-LIC-LOCATION:America/Los_Angeles
BEGIN:STANDARD
DTSTART;VALUE=DATE-TIME:20271107T010000
TZNAME:PST
TZOFFSETFROM:-0700
TZOFFSETTO:-0800
END:STANDARD
END:VTIMEZONE
END:VCALENDAR
