BEGIN:VCALENDAR
VERSION:2.0
PRODID:-//Plone.org//NONSGML plone.app.event//EN
X-WR-TIMEZONE:US/Pacific
BEGIN:VEVENT
SUMMARY:Seattle Pathfinders - Open House for Prospective Members
DTSTART;VALUE=DATE-TIME:20260909T180000
DTEND;VALUE=DATE-TIME:20260909T200000
DTSTAMP;VALUE=DATE-TIME:20260422T053409Z
UID:839882c0f1804c8aac23f8219621e836@localhost:6081
CREATED;VALUE=DATE-TIME:20251208T190751Z
DESCRIPTION:The Pathfinders New Information Seminar is an open house for p
 rospective students (1st - 4th grade) and their families to learn more abo
 ut the program from staff and returning students and their families.
LAST-MODIFIED;VALUE=DATE-TIME:20260306T192844Z
LOCATION:Seattle Program Center
URL:https://www.mountaineers.org/locations-lodges/seattle-program-center/e
 vents/seattle-nomad-pathfinders-general-meeting-12-2027-09-08
END:VEVENT
BEGIN:VTIMEZONE
TZID:America/Los_Angeles
X-LIC-LOCATION:America/Los_Angeles
BEGIN:DAYLIGHT
DTSTART;VALUE=DATE-TIME:20260308T030000
TZNAME:PDT
TZOFFSETFROM:-0800
TZOFFSETTO:-0700
END:DAYLIGHT
END:VTIMEZONE
END:VCALENDAR
