BEGIN:VCALENDAR
VERSION:2.0
PRODID:-//Plone.org//NONSGML plone.app.event//EN
X-WR-TIMEZONE:US/Pacific
BEGIN:VEVENT
SUMMARY:Seattle Pathfinders - Open House for Prospective Members
DTSTART;VALUE=DATE-TIME:20250910T180000
DTEND;VALUE=DATE-TIME:20250910T200000
DTSTAMP;VALUE=DATE-TIME:20260420T131016Z
UID:32bb695eb0d94b02a429f75c22bac289@localhost:6081
CREATED;VALUE=DATE-TIME:20240106T010434Z
DESCRIPTION:The Pathfinders New Information Seminar is an open house for p
 rospective students (1st - 4th grade) and their families to learn more abo
 ut the program from staff and returning students and their families.
LAST-MODIFIED;VALUE=DATE-TIME:20250909T214231Z
LOCATION:Seattle Program Center
URL:https://www.mountaineers.org/locations-lodges/seattle-program-center/e
 vents/seattle-nomad-pathfinders-general-meeting-12-2025-09-10
END:VEVENT
BEGIN:VTIMEZONE
TZID:America/Los_Angeles
X-LIC-LOCATION:America/Los_Angeles
BEGIN:DAYLIGHT
DTSTART;VALUE=DATE-TIME:20250309T030000
TZNAME:PDT
TZOFFSETFROM:-0800
TZOFFSETTO:-0700
END:DAYLIGHT
END:VTIMEZONE
END:VCALENDAR
