BEGIN:VCALENDAR
VERSION:2.0
PRODID:-//Plone.org//NONSGML plone.app.event//EN
X-WR-TIMEZONE:US/Pacific
BEGIN:VEVENT
SUMMARY:Seattle Explorers & Jr. MAC - Open House for Prospective Members
DTSTART;VALUE=DATE-TIME:20260916T180000
DTEND;VALUE=DATE-TIME:20260916T200000
DTSTAMP;VALUE=DATE-TIME:20260420T221005Z
UID:b144201263ef4e4ea5ceadd0182c89d1@localhost:6081
CREATED;VALUE=DATE-TIME:20251208T191219Z
DESCRIPTION:The Explorers & Jr. MAC New Information Seminar is an open hou
 se for prospective students (5th - 8th grade) and their families to learn 
 more about the program from staff and returning students.
LAST-MODIFIED;VALUE=DATE-TIME:20260306T192817Z
LOCATION:Seattle Program Center
URL:https://www.mountaineers.org/locations-lodges/seattle-program-center/e
 vents/seattle-explorers-jr-mac-general-meeting-2027-09-15
END:VEVENT
BEGIN:VTIMEZONE
TZID:America/Los_Angeles
X-LIC-LOCATION:America/Los_Angeles
BEGIN:DAYLIGHT
DTSTART;VALUE=DATE-TIME:20260308T030000
TZNAME:PDT
TZOFFSETFROM:-0800
TZOFFSETTO:-0700
END:DAYLIGHT
END:VTIMEZONE
END:VCALENDAR
