BEGIN:VCALENDAR
VERSION:2.0
PRODID:-//Plone.org//NONSGML plone.app.event//EN
X-WR-TIMEZONE:US/Pacific
BEGIN:VEVENT
SUMMARY:Seattle Explorers & Jr. MAC - Open House for Prospective Members
DTSTART;VALUE=DATE-TIME:20250917T180000
DTEND;VALUE=DATE-TIME:20250917T200000
DTSTAMP;VALUE=DATE-TIME:20260420T114008Z
UID:6e0c0ec561a0419a8108c5b2544e61ae@localhost:6081
CREATED;VALUE=DATE-TIME:20240106T013243Z
DESCRIPTION:The Explorers & Jr. MAC New Information Seminar is an open hou
 se for prospective students (5th - 8th grade) and their families to learn 
 more about the program from staff and returning students.
LAST-MODIFIED;VALUE=DATE-TIME:20250917T210234Z
LOCATION:Seattle Program Center
URL:https://www.mountaineers.org/locations-lodges/seattle-program-center/e
 vents/seattle-explorers-jr-mac-general-meeting-2025-09-17
END:VEVENT
BEGIN:VTIMEZONE
TZID:America/Los_Angeles
X-LIC-LOCATION:America/Los_Angeles
BEGIN:DAYLIGHT
DTSTART;VALUE=DATE-TIME:20250309T030000
TZNAME:PDT
TZOFFSETFROM:-0800
TZOFFSETTO:-0700
END:DAYLIGHT
END:VTIMEZONE
END:VCALENDAR
