BEGIN:VCALENDAR
VERSION:2.0
PRODID:-//Plone.org//NONSGML plone.app.event//EN
X-WR-TIMEZONE:US/Pacific
BEGIN:VEVENT
SUMMARY:Seattle Community Meeting on Roadless Forests
DTSTART;VALUE=DATE-TIME:20260417T173000
DTEND;VALUE=DATE-TIME:20260417T200000
DTSTAMP;VALUE=DATE-TIME:20260423T212953Z
UID:b7d7600fd06c43bc9895f33517d5f999@localhost:6081
CREATED;VALUE=DATE-TIME:20260313T222554Z
DESCRIPTION:Please join us for a Community Meeting on Roadless Forests on 
 April 17. At the meeting\, a wide range of leaders will share information 
 about the importance of Roadless Areas. Attendees will have the option to 
 share two minutes of personal testimony on the need to protect our nationa
 l forests. Public comments on the proposed repeal of the Roadless Rule wil
 l be formally submitted to the federal government.
LAST-MODIFIED;VALUE=DATE-TIME:20260417T232144Z
LOCATION:Seattle Program Center
URL:https://www.mountaineers.org/locations-lodges/seattle-program-center/e
 vents/seattle-community-meeting-on-roadless-forests
END:VEVENT
BEGIN:VTIMEZONE
TZID:America/Los_Angeles
X-LIC-LOCATION:America/Los_Angeles
BEGIN:DAYLIGHT
DTSTART;VALUE=DATE-TIME:20260308T030000
TZNAME:PDT
TZOFFSETFROM:-0800
TZOFFSETTO:-0700
END:DAYLIGHT
END:VTIMEZONE
END:VCALENDAR
