BEGIN:VCALENDAR
VERSION:2.0
PRODID:-//Plone.org//NONSGML plone.app.event//EN
X-WR-TIMEZONE:US/Pacific
BEGIN:VEVENT
SUMMARY:Seattle Climbing Committee Meeting
DTSTART;VALUE=DATE-TIME:20271207T183000
DTEND;VALUE=DATE-TIME:20271207T203000
DTSTAMP;VALUE=DATE-TIME:20260421T164148Z
UID:7e8098ad20bf4b5d8fa8cf8a0e94308d@localhost:6081
CREATED;VALUE=DATE-TIME:20260115T080619Z
DESCRIPTION:Monthly meeting for Seattle Climbing Committee. Even months ar
 e in person\, odd months via zoom. This is planned for in person meeting. 
 Food and refreshments will be provided if meeting in person. Please RSVP b
 y the weekend prior to the meeting date\, so we know how much food to get.
LAST-MODIFIED;VALUE=DATE-TIME:20260218T204000Z
LOCATION:Seattle Program Center
URL:https://www.mountaineers.org/locations-lodges/seattle-program-center/e
 vents/seattle-climbing-committee-meeting-6-2027-12-07
END:VEVENT
BEGIN:VTIMEZONE
TZID:America/Los_Angeles
X-LIC-LOCATION:America/Los_Angeles
BEGIN:STANDARD
DTSTART;VALUE=DATE-TIME:20271107T010000
TZNAME:PST
TZOFFSETFROM:-0700
TZOFFSETTO:-0800
END:STANDARD
END:VTIMEZONE
END:VCALENDAR
