BEGIN:VCALENDAR
VERSION:2.0
PRODID:-//Plone.org//NONSGML plone.app.event//EN
X-WR-TIMEZONE:US/Pacific
BEGIN:VEVENT
SUMMARY:Seattle Climb Leader and Prospective Leader Potluck and Info Sessi
 on
DTSTART;VALUE=DATE-TIME:20240729T183000
DTEND;VALUE=DATE-TIME:20240729T200000
DTSTAMP;VALUE=DATE-TIME:20260425T064140Z
UID:36c8e1e7d38f49728658921bf964ea69@localhost:6081
CREATED;VALUE=DATE-TIME:20240627T161710Z
DESCRIPTION:A chance to catch up with other climb leaders and learn about 
 what it takes to be a climb leader for the Mountaineers.
LAST-MODIFIED;VALUE=DATE-TIME:20240701T173730Z
LOCATION:Seattle Program Center
URL:https://www.mountaineers.org/locations-lodges/seattle-program-center/e
 vents/seattle-climb-leader-and-prospective-leader-potluck-and-info-session
END:VEVENT
BEGIN:VTIMEZONE
TZID:America/Los_Angeles
X-LIC-LOCATION:America/Los_Angeles
BEGIN:DAYLIGHT
DTSTART;VALUE=DATE-TIME:20240310T030000
TZNAME:PDT
TZOFFSETFROM:-0800
TZOFFSETTO:-0700
END:DAYLIGHT
END:VTIMEZONE
END:VCALENDAR
