BEGIN:VCALENDAR
VERSION:2.0
PRODID:-//Plone.org//NONSGML plone.app.event//EN
X-WR-TIMEZONE:US/Pacific
BEGIN:VEVENT
SUMMARY:Seattle Children's Hospital Intern Retreat (private event)
DTSTART;VALUE=DATE-TIME:20260917T080000
DTEND;VALUE=DATE-TIME:20260917T130000
DTSTAMP;VALUE=DATE-TIME:20260421T163654Z
UID:6546069a06c24fdaa4a7cc7035bfcc99@localhost:6081
CREATED;VALUE=DATE-TIME:20260408T213608Z
DESCRIPTION:Seattle Children's Hospital Intern Retreat (private event)
LAST-MODIFIED;VALUE=DATE-TIME:20260421T183916Z
LOCATION:Seattle Program Center
URL:https://www.mountaineers.org/locations-lodges/seattle-program-center/e
 vents/seattle-childrens-hospital-intern-retreat-private-event-2026-09-17
END:VEVENT
BEGIN:VTIMEZONE
TZID:America/Los_Angeles
X-LIC-LOCATION:America/Los_Angeles
BEGIN:DAYLIGHT
DTSTART;VALUE=DATE-TIME:20260308T030000
TZNAME:PDT
TZOFFSETFROM:-0800
TZOFFSETTO:-0700
END:DAYLIGHT
END:VTIMEZONE
END:VCALENDAR
