BEGIN:VCALENDAR
VERSION:2.0
PRODID:-//Plone.org//NONSGML plone.app.event//EN
X-WR-TIMEZONE:US/Pacific
BEGIN:VEVENT
SUMMARY:Seattle Basic Alpine Climbers' Reunion 2025
DTSTART;VALUE=DATE-TIME:20251024T180000
DTEND;VALUE=DATE-TIME:20251024T210000
DTSTAMP;VALUE=DATE-TIME:20260420T021257Z
UID:d8c13ce2f38b4447b8952fbd6277cecd@localhost:6081
CREATED;VALUE=DATE-TIME:20250712T004139Z
DESCRIPTION:Seattle Basic Alpine Climbing Courses (including IB\, and Intr
 o Rock Climbing) Graduation 2025
LAST-MODIFIED;VALUE=DATE-TIME:20251019T163619Z
LOCATION:Seattle Program Center
URL:https://www.mountaineers.org/locations-lodges/seattle-program-center/e
 vents/seattle-basic-alpine-climbing-course-2023-meet-and-greet-2023-12-10-
 2024-12-08-2025-10-24
END:VEVENT
BEGIN:VTIMEZONE
TZID:America/Los_Angeles
X-LIC-LOCATION:America/Los_Angeles
BEGIN:DAYLIGHT
DTSTART;VALUE=DATE-TIME:20250309T030000
TZNAME:PDT
TZOFFSETFROM:-0800
TZOFFSETTO:-0700
END:DAYLIGHT
END:VTIMEZONE
END:VCALENDAR
