BEGIN:VCALENDAR
VERSION:2.0
PRODID:-//Plone.org//NONSGML plone.app.event//EN
X-WR-TIMEZONE:US/Pacific
BEGIN:VEVENT
SUMMARY:SEA Pathfinders & Nomads Skills/Climb Night
DTSTART;VALUE=DATE-TIME:20251023T180000
DTEND;VALUE=DATE-TIME:20251023T200000
DTSTAMP;VALUE=DATE-TIME:20260420T021125Z
UID:eb3da7129bfb4d07bd7b28323b0f7624@localhost:6081
CREATED;VALUE=DATE-TIME:20240311T182243Z
DESCRIPTION:Seattle Pathfinder and Nomad families come together to practic
 e skills and climb.
LAST-MODIFIED;VALUE=DATE-TIME:20250804T213403Z
LOCATION:Seattle Program Center
URL:https://www.mountaineers.org/locations-lodges/seattle-program-center/e
 vents/sea-pathfinders-nomads-skills-climb-night-11
END:VEVENT
BEGIN:VTIMEZONE
TZID:America/Los_Angeles
X-LIC-LOCATION:America/Los_Angeles
BEGIN:DAYLIGHT
DTSTART;VALUE=DATE-TIME:20250309T030000
TZNAME:PDT
TZOFFSETFROM:-0800
TZOFFSETTO:-0700
END:DAYLIGHT
END:VTIMEZONE
END:VCALENDAR
