BEGIN:VCALENDAR
VERSION:2.0
PRODID:-//Plone.org//NONSGML plone.app.event//EN
X-WR-TIMEZONE:US/Pacific
BEGIN:VEVENT
SUMMARY:Scramble Summit
DTSTART;VALUE=DATE-TIME:20261107T090000
DTEND;VALUE=DATE-TIME:20261107T150000
DTSTAMP;VALUE=DATE-TIME:20260421T164021Z
UID:abd9322430ee48b3afd4d3821d8b92f0@localhost:6081
CREATED;VALUE=DATE-TIME:20251218T195030Z
DESCRIPTION:Scramble Summit
LAST-MODIFIED;VALUE=DATE-TIME:20260107T213326Z
LOCATION:Seattle Program Center
URL:https://www.mountaineers.org/locations-lodges/seattle-program-center/e
 vents/scramble-summit
END:VEVENT
BEGIN:VTIMEZONE
TZID:America/Los_Angeles
X-LIC-LOCATION:America/Los_Angeles
BEGIN:STANDARD
DTSTART;VALUE=DATE-TIME:20261101T010000
TZNAME:PST
TZOFFSETFROM:-0700
TZOFFSETTO:-0800
END:STANDARD
END:VTIMEZONE
END:VCALENDAR
