BEGIN:VCALENDAR
VERSION:2.0
PRODID:-//Plone.org//NONSGML plone.app.event//EN
X-WR-TIMEZONE:US/Pacific
BEGIN:VEVENT
SUMMARY:Sand Point Child Development Center Spring Banquet (Private Event)
DTSTART;VALUE=DATE-TIME:20260529T163000
DTEND;VALUE=DATE-TIME:20260529T190000
DTSTAMP;VALUE=DATE-TIME:20260420T221005Z
UID:99dde41fbbf248828ecd822c5a615490@localhost:6081
CREATED;VALUE=DATE-TIME:20260218T040934Z
DESCRIPTION:Sand Point Child Development Center Spring Banquet (Private Ev
 ent)
LAST-MODIFIED;VALUE=DATE-TIME:20260326T174642Z
LOCATION:Seattle Program Center
URL:https://www.mountaineers.org/locations-lodges/seattle-program-center/e
 vents/sand-point-child-development-center-spring-banquet-private-event-hol
 d
END:VEVENT
BEGIN:VTIMEZONE
TZID:America/Los_Angeles
X-LIC-LOCATION:America/Los_Angeles
BEGIN:DAYLIGHT
DTSTART;VALUE=DATE-TIME:20260308T030000
TZNAME:PDT
TZOFFSETFROM:-0800
TZOFFSETTO:-0700
END:DAYLIGHT
END:VTIMEZONE
END:VCALENDAR
