BEGIN:VCALENDAR
VERSION:2.0
PRODID:-//Plone.org//NONSGML plone.app.event//EN
X-WR-TIMEZONE:US/Pacific
BEGIN:VEVENT
SUMMARY:Safe Travel at High Altitude with Dr. Andrew Luks
DTSTART;VALUE=DATE-TIME:20190305T190000
DTEND;VALUE=DATE-TIME:20190305T210000
DTSTAMP;VALUE=DATE-TIME:20260420T233623Z
UID:cec4efcc53b64ac6b70bfef5c8e035d0@localhost:6081
CREATED;VALUE=DATE-TIME:20181024T214747Z
DESCRIPTION:Altitude illness risk increases steeply anytime you plan to sp
 end appreciable time above 8000 feet altitude. Join in this presentation w
 ith local professor and internationally recognized expert in altitude medi
 cine\, Dr. Andy Luks from the University of Washington\, and learn how to 
 minimize the risk of altitude illness\, how to recognize the symptoms in o
 ften ambiguous situations\, and what to do once you recognize them. No fee
  and open to members and non-members. 
LAST-MODIFIED;VALUE=DATE-TIME:20190206T193241Z
LOCATION:Seattle Program Center
URL:https://www.mountaineers.org/locations-lodges/seattle-program-center/e
 vents/safe-travel-at-high-altitude-with-dr-andrew-luks
END:VEVENT
BEGIN:VTIMEZONE
TZID:America/Los_Angeles
X-LIC-LOCATION:America/Los_Angeles
BEGIN:STANDARD
DTSTART;VALUE=DATE-TIME:20181104T010000
TZNAME:PST
TZOFFSETFROM:-0700
TZOFFSETTO:-0800
END:STANDARD
END:VTIMEZONE
END:VCALENDAR
