BEGIN:VCALENDAR
VERSION:2.0
PRODID:-//Plone.org//NONSGML plone.app.event//EN
X-WR-TIMEZONE:US/Pacific
BEGIN:VEVENT
SUMMARY:Reece Munson's Bar Mitzvah Party
DTSTART;VALUE=DATE-TIME:20221022T190000
DTEND;VALUE=DATE-TIME:20221022T220000
DTSTAMP;VALUE=DATE-TIME:20260420T021102Z
UID:d1ae7643c9014423b574ac5765fc90fd@localhost:6081
CREATED;VALUE=DATE-TIME:20210721T170725Z
DESCRIPTION:Private Event
LAST-MODIFIED;VALUE=DATE-TIME:20210725T000902Z
LOCATION:Seattle Program Center
URL:https://www.mountaineers.org/locations-lodges/seattle-program-center/e
 vents/reece-munsons-bar-mitzvah-party
END:VEVENT
BEGIN:VTIMEZONE
TZID:America/Los_Angeles
X-LIC-LOCATION:America/Los_Angeles
BEGIN:DAYLIGHT
DTSTART;VALUE=DATE-TIME:20220313T030000
TZNAME:PDT
TZOFFSETFROM:-0800
TZOFFSETTO:-0700
END:DAYLIGHT
END:VTIMEZONE
END:VCALENDAR
