BEGIN:VCALENDAR
VERSION:2.0
PRODID:-//Plone.org//NONSGML plone.app.event//EN
X-WR-TIMEZONE:US/Pacific
BEGIN:VEVENT
SUMMARY:Play Safe: Recreating in Bear Country with David Moskowitz
DTSTART;VALUE=DATE-TIME:20160629T183000
DTEND;VALUE=DATE-TIME:20160629T210000
DTSTAMP;VALUE=DATE-TIME:20260420T234040Z
UID:ed5891ddd7834fb59311173d47be529a@localhost:6081
CREATED;VALUE=DATE-TIME:20160308T182106Z
DESCRIPTION:Learn how to play safe and be safe with bears in the backcount
 ry. 
LAST-MODIFIED;VALUE=DATE-TIME:20160628T184153Z
LOCATION:Seattle Program Center
URL:https://www.mountaineers.org/locations-lodges/seattle-program-center/e
 vents/recreating-in-bear-country
END:VEVENT
BEGIN:VTIMEZONE
TZID:America/Los_Angeles
X-LIC-LOCATION:America/Los_Angeles
BEGIN:DAYLIGHT
DTSTART;VALUE=DATE-TIME:20160313T030000
TZNAME:PDT
TZOFFSETFROM:-0800
TZOFFSETTO:-0700
END:DAYLIGHT
END:VTIMEZONE
END:VCALENDAR
