BEGIN:VCALENDAR
VERSION:2.0
PRODID:-//Plone.org//NONSGML plone.app.event//EN
X-WR-TIMEZONE:US/Pacific
BEGIN:VEVENT
SUMMARY:Progressive Climbing Education Meeting - Please RSVP
DTSTART;VALUE=DATE-TIME:20160616T183000
DTEND;VALUE=DATE-TIME:20160616T210000
DTSTAMP;VALUE=DATE-TIME:20260420T213445Z
UID:f30ab96c09d148a2a9516f30354e373a@localhost:6081
CREATED;VALUE=DATE-TIME:20160519T204344Z
DESCRIPTION:A listening and information gathering session open to all Moun
 taineers interested in the future of Mountaineers climbing programs
LAST-MODIFIED;VALUE=DATE-TIME:20160607T193022Z
LOCATION:Seattle Program Center
URL:https://www.mountaineers.org/locations-lodges/seattle-program-center/e
 vents/progressive-climbing-education-meeting
END:VEVENT
BEGIN:VTIMEZONE
TZID:America/Los_Angeles
X-LIC-LOCATION:America/Los_Angeles
BEGIN:DAYLIGHT
DTSTART;VALUE=DATE-TIME:20160313T030000
TZNAME:PDT
TZOFFSETFROM:-0800
TZOFFSETTO:-0700
END:DAYLIGHT
END:VTIMEZONE
END:VCALENDAR
