BEGIN:VCALENDAR
VERSION:2.0
PRODID:-//Plone.org//NONSGML plone.app.event//EN
X-WR-TIMEZONE:US/Pacific
BEGIN:VEVENT
SUMMARY:PCE Town Hall Session - Seattle
DTSTART;VALUE=DATE-TIME:20161013T183000
DTEND;VALUE=DATE-TIME:20161013T203000
DTSTAMP;VALUE=DATE-TIME:20260420T213322Z
UID:9ae1de39dd17410885a85622fa11e61c@localhost:6081
CREATED;VALUE=DATE-TIME:20160719T192248Z
DESCRIPTION:Progressive Climbing Education town hall session presenting dr
 aft program design alternatives
LAST-MODIFIED;VALUE=DATE-TIME:20161011T222250Z
LOCATION:Seattle Program Center
URL:https://www.mountaineers.org/locations-lodges/seattle-program-center/e
 vents/pce-listening-session
END:VEVENT
BEGIN:VTIMEZONE
TZID:America/Los_Angeles
X-LIC-LOCATION:America/Los_Angeles
BEGIN:DAYLIGHT
DTSTART;VALUE=DATE-TIME:20160313T030000
TZNAME:PDT
TZOFFSETFROM:-0800
TZOFFSETTO:-0700
END:DAYLIGHT
END:VTIMEZONE
END:VCALENDAR
