BEGIN:VCALENDAR
VERSION:2.0
PRODID:-//Plone.org//NONSGML plone.app.event//EN
X-WR-TIMEZONE:US/Pacific
BEGIN:VEVENT
SUMMARY:Meet & Greet with Rue Mapp of Outdoor Afro with REI Co-Op
DTSTART;VALUE=DATE-TIME:20240405T150000
DTEND;VALUE=DATE-TIME:20240405T163000
DTSTAMP;VALUE=DATE-TIME:20260421T014440Z
UID:da177339b68f420cb2cca1e0b8863a05@localhost:6081
CREATED;VALUE=DATE-TIME:20240221T192950Z
DESCRIPTION:Join us for a community gathering to meet our 2024 Adventure w
 ith Purpose Award honoree\, Rue Mapp of Outdoor Afro and Outdoor Afro Inc.
  The event will also be a conversation with REI Co-Op staff and a showcase
  of the new Outdoor Afro Inc + REI CoOp collection collaboration.
LAST-MODIFIED;VALUE=DATE-TIME:20240401T193103Z
LOCATION:Seattle Program Center
URL:https://www.mountaineers.org/locations-lodges/seattle-program-center/e
 vents/outdoor-afro-event-with-rei-co-op
END:VEVENT
BEGIN:VTIMEZONE
TZID:America/Los_Angeles
X-LIC-LOCATION:America/Los_Angeles
BEGIN:DAYLIGHT
DTSTART;VALUE=DATE-TIME:20240310T030000
TZNAME:PDT
TZOFFSETFROM:-0800
TZOFFSETTO:-0700
END:DAYLIGHT
END:VTIMEZONE
END:VCALENDAR
