BEGIN:VCALENDAR
VERSION:2.0
PRODID:-//Plone.org//NONSGML plone.app.event//EN
X-WR-TIMEZONE:US/Pacific
BEGIN:VEVENT
SUMMARY:Orcas and Salmon: In Dialogue with Lynda Mapes of the Seattle Time
 s
DTSTART;VALUE=DATE-TIME:20200917T180000
DTEND;VALUE=DATE-TIME:20200917T193000
DTSTAMP;VALUE=DATE-TIME:20260423T153050Z
UID:fcdd224a2cf54110ae5fe31c7a98cb56@localhost:6081
CREATED;VALUE=DATE-TIME:20200825T231519Z
DESCRIPTION:Join Seattle Times Journalist Lynda Mapes September 17th\, at 
 6pm PST to learn about the southern resident orca whales and Chinook salmo
 n that are a signature of our region. Lynda will discuss the status of the
  Southern residents\, including updates on the pregnancy of Tahlequah (J35
 )\, and share about what's its like covering these two interdependent spec
 ial--whales and salmon--and their struggle for survival\, which Lynda repo
 rted on in the award-winning Seattle Times “Hostile Waters” series.
LAST-MODIFIED;VALUE=DATE-TIME:20200825T231633Z
LOCATION:Zoom Video Presentation
URL:https://www.mountaineers.org/locations-lodges/seattle-program-center/e
 vents/orcas-and-salmon-in-dialogue-with-lynda-mapes-of-the-seattle-times
END:VEVENT
BEGIN:VTIMEZONE
TZID:America/Los_Angeles
X-LIC-LOCATION:America/Los_Angeles
BEGIN:DAYLIGHT
DTSTART;VALUE=DATE-TIME:20200308T030000
TZNAME:PDT
TZOFFSETFROM:-0800
TZOFFSETTO:-0700
END:DAYLIGHT
END:VTIMEZONE
END:VCALENDAR
