BEGIN:VCALENDAR
VERSION:2.0
PRODID:-//Plone.org//NONSGML plone.app.event//EN
X-WR-TIMEZONE:US/Pacific
BEGIN:VEVENT
SUMMARY:Mountainfilm on Tour - Seattle
DTSTART;VALUE=DATE-TIME:20221013T190000
DTEND;VALUE=DATE-TIME:20221013T213000
DTSTAMP;VALUE=DATE-TIME:20260420T233459Z
UID:dbf5210ffb0a4223b6b1048a4299d1bc@localhost:6081
CREATED;VALUE=DATE-TIME:20210105T203527Z
DESCRIPTION:Join us for our annual showing of the Mountainfilm Festival\, 
 celebrating stories of indomitable spirit and inspiring audiences through 
 film\, art\, and ideas.
LAST-MODIFIED;VALUE=DATE-TIME:20230331T214053Z
LOCATION:Seattle Program Center
URL:https://www.mountaineers.org/locations-lodges/seattle-program-center/e
 vents/mountainfilm-festival
END:VEVENT
BEGIN:VTIMEZONE
TZID:America/Los_Angeles
X-LIC-LOCATION:America/Los_Angeles
BEGIN:DAYLIGHT
DTSTART;VALUE=DATE-TIME:20220313T030000
TZNAME:PDT
TZOFFSETFROM:-0800
TZOFFSETTO:-0700
END:DAYLIGHT
END:VTIMEZONE
END:VCALENDAR
