BEGIN:VCALENDAR
VERSION:2.0
PRODID:-//Plone.org//NONSGML plone.app.event//EN
X-WR-TIMEZONE:US/Pacific
BEGIN:VEVENT
SUMMARY:The Mountaineers Virtual Annual Meeting 2020
DTSTART;VALUE=DATE-TIME:20200915T180000
DTEND;VALUE=DATE-TIME:20200915T190000
DTSTAMP;VALUE=DATE-TIME:20260420T095412Z
UID:6cfe82c7438443fc8977eb36d2ccd908@localhost:6081
CREATED;VALUE=DATE-TIME:20190910T194254Z
DESCRIPTION:Call-in to The Mountaineers Virtual Annual Meeting to hear abo
 ut the state of affairs of The Mountaineers from staff and board members. 
LAST-MODIFIED;VALUE=DATE-TIME:20200916T003601Z
LOCATION:Zoom Video Presentation
URL:https://www.mountaineers.org/locations-lodges/seattle-program-center/e
 vents/mountaineers-annual-meeting-2020-sept-15
END:VEVENT
BEGIN:VTIMEZONE
TZID:America/Los_Angeles
X-LIC-LOCATION:America/Los_Angeles
BEGIN:DAYLIGHT
DTSTART;VALUE=DATE-TIME:20200308T030000
TZNAME:PDT
TZOFFSETFROM:-0800
TZOFFSETTO:-0700
END:DAYLIGHT
END:VTIMEZONE
END:VCALENDAR
