BEGIN:VCALENDAR
VERSION:2.0
PRODID:-//Plone.org//NONSGML plone.app.event//EN
X-WR-TIMEZONE:US/Pacific
BEGIN:VEVENT
SUMMARY:Mountain Weather for Mountaineers
DTSTART;VALUE=DATE-TIME:20190321T190000
DTEND;VALUE=DATE-TIME:20190321T203000
DTSTAMP;VALUE=DATE-TIME:20260420T234143Z
UID:cb907468b7944243b02df5782b09404c@localhost:6081
CREATED;VALUE=DATE-TIME:20181119T185729Z
DESCRIPTION:Mountain weather forecast explained by Michael Fagin of Fagin'
 s Weather World\, Weekend Outlook.
LAST-MODIFIED;VALUE=DATE-TIME:20190319T221108Z
LOCATION:Seattle Program Center
URL:https://www.mountaineers.org/locations-lodges/seattle-program-center/e
 vents/mountain-weather-for-mountaineers-1
END:VEVENT
BEGIN:VTIMEZONE
TZID:America/Los_Angeles
X-LIC-LOCATION:America/Los_Angeles
BEGIN:DAYLIGHT
DTSTART;VALUE=DATE-TIME:20190310T030000
TZNAME:PDT
TZOFFSETFROM:-0800
TZOFFSETTO:-0700
END:DAYLIGHT
END:VTIMEZONE
END:VCALENDAR
