BEGIN:VCALENDAR
VERSION:2.0
PRODID:-//Plone.org//NONSGML plone.app.event//EN
X-WR-TIMEZONE:US/Pacific
BEGIN:VEVENT
SUMMARY:Gratitude Reception for Jim Lea
DTSTART;VALUE=DATE-TIME:20170115T130000
DTEND;VALUE=DATE-TIME:20170115T150000
DTSTAMP;VALUE=DATE-TIME:20260422T181628Z
UID:ef5894a76e9e43838c5651e98841edb2@localhost:6081
CREATED;VALUE=DATE-TIME:20161221T214823Z
DESCRIPTION:The Mountaineers is honored to host a Gratitude Reception in m
 emory of Jim Lea to celebrate his life with those he loved and impacted th
 e most. Light refreshments will be served. Please RSVP below to attend or 
 call member services at (206) 521-6000.
LAST-MODIFIED;VALUE=DATE-TIME:20170107T213945Z
LOCATION:Seattle Program Center
URL:https://www.mountaineers.org/locations-lodges/seattle-program-center/e
 vents/memorial-4
END:VEVENT
BEGIN:VTIMEZONE
TZID:America/Los_Angeles
X-LIC-LOCATION:America/Los_Angeles
BEGIN:STANDARD
DTSTART;VALUE=DATE-TIME:20161106T010000
TZNAME:PST
TZOFFSETFROM:-0700
TZOFFSETTO:-0800
END:STANDARD
END:VTIMEZONE
END:VCALENDAR
