BEGIN:VCALENDAR
VERSION:2.0
PRODID:-//Plone.org//NONSGML plone.app.event//EN
X-WR-TIMEZONE:US/Pacific
BEGIN:VEVENT
SUMMARY:Meet The Mountaineers Info Session - Feb 13
DTSTART;VALUE=DATE-TIME:20240213T183000
DTEND;VALUE=DATE-TIME:20240213T203000
DTSTAMP;VALUE=DATE-TIME:20260419T124133Z
UID:dc32884625c543d5a849e56cb482964b@localhost:6081
CREATED;VALUE=DATE-TIME:20240120T160011Z
DESCRIPTION:For new and potential members looking to learn more about what
  The Mountaineers has to offer.
LAST-MODIFIED;VALUE=DATE-TIME:20250930T180605Z
LOCATION:Seattle Program Center
URL:https://www.mountaineers.org/locations-lodges/seattle-program-center/e
 vents/meet-the-mountaineers-info-session2024-02-13
END:VEVENT
BEGIN:VTIMEZONE
TZID:America/Los_Angeles
X-LIC-LOCATION:America/Los_Angeles
BEGIN:STANDARD
DTSTART;VALUE=DATE-TIME:20231105T010000
TZNAME:PST
TZOFFSETFROM:-0700
TZOFFSETTO:-0800
END:STANDARD
END:VTIMEZONE
END:VCALENDAR
