BEGIN:VCALENDAR
VERSION:2.0
PRODID:-//Plone.org//NONSGML plone.app.event//EN
X-WR-TIMEZONE:US/Pacific
BEGIN:VEVENT
SUMMARY:CANCELED! Meet The Mountaineers Info Session - April 24\, 2024
DTSTART;VALUE=DATE-TIME:20240424T183000
DTEND;VALUE=DATE-TIME:20240424T203000
DTSTAMP;VALUE=DATE-TIME:20260421T014507Z
UID:653249370c3f420d9e9b346d96b98f10@localhost:6081
CREATED;VALUE=DATE-TIME:20240306T201645Z
DESCRIPTION:For new and potential members looking to learn more about what
  The Mountaineers has to offer.
LAST-MODIFIED;VALUE=DATE-TIME:20240424T213313Z
LOCATION:Seattle Program Center
URL:https://www.mountaineers.org/locations-lodges/seattle-program-center/e
 vents/meet-the-mountaineers-info-session-2024-04-24
END:VEVENT
BEGIN:VTIMEZONE
TZID:America/Los_Angeles
X-LIC-LOCATION:America/Los_Angeles
BEGIN:DAYLIGHT
DTSTART;VALUE=DATE-TIME:20240310T030000
TZNAME:PDT
TZOFFSETFROM:-0800
TZOFFSETTO:-0700
END:DAYLIGHT
END:VTIMEZONE
END:VCALENDAR
