BEGIN:VCALENDAR
VERSION:2.0
PRODID:-//Plone.org//NONSGML plone.app.event//EN
X-WR-TIMEZONE:US/Pacific
BEGIN:VEVENT
SUMMARY:Magnuson South Wall Reservation
DTSTART;VALUE=DATE-TIME:20171107T180000
DTEND;VALUE=DATE-TIME:20171107T200000
DTSTAMP;VALUE=DATE-TIME:20260422T123622Z
UID:fa43e74cb83543b78ab9a86ea43251d0@localhost:6081
CREATED;VALUE=DATE-TIME:20171101T231716Z
DESCRIPTION:The South Wall has a reservation through the park. It's still 
 open but be prepared to share.
LAST-MODIFIED;VALUE=DATE-TIME:20171101T231751Z
LOCATION:Seattle Program Center
URL:https://www.mountaineers.org/locations-lodges/seattle-program-center/e
 vents/magnuson-reservation
END:VEVENT
BEGIN:VTIMEZONE
TZID:America/Los_Angeles
X-LIC-LOCATION:America/Los_Angeles
BEGIN:STANDARD
DTSTART;VALUE=DATE-TIME:20171105T010000
TZNAME:PST
TZOFFSETFROM:-0700
TZOFFSETTO:-0800
END:STANDARD
END:VTIMEZONE
END:VCALENDAR
