BEGIN:VCALENDAR
VERSION:2.0
PRODID:-//Plone.org//NONSGML plone.app.event//EN
X-WR-TIMEZONE:US/Pacific
BEGIN:VEVENT
SUMMARY:Seattle MAC Informational Seminar
DTSTART;VALUE=DATE-TIME:20220907T190000
DTEND;VALUE=DATE-TIME:20220907T210000
DTSTAMP;VALUE=DATE-TIME:20260420T182500Z
UID:901df2cb0a7344859a2c218910aac980@localhost:6081
CREATED;VALUE=DATE-TIME:20190201T170101Z
DESCRIPTION:Meeting for prospective and returning MAC members to meet each
  other and for everyone to learn all the important info about the club and
  get their questions answered. Attending this meeting does not guarantee a
  spot in the club. Registration occurs after this meeting\, and info about
  how to register can be found within the enrollment lottery application fo
 rm.
LAST-MODIFIED;VALUE=DATE-TIME:20220909T133740Z
LOCATION:Seattle Program Center
URL:https://www.mountaineers.org/locations-lodges/seattle-program-center/e
 vents/mac-lottery-hold-2021-01-13-2022-09-07
END:VEVENT
BEGIN:VTIMEZONE
TZID:America/Los_Angeles
X-LIC-LOCATION:America/Los_Angeles
BEGIN:DAYLIGHT
DTSTART;VALUE=DATE-TIME:20220313T030000
TZNAME:PDT
TZOFFSETFROM:-0800
TZOFFSETTO:-0700
END:DAYLIGHT
END:VTIMEZONE
END:VCALENDAR
