BEGIN:VCALENDAR
VERSION:2.0
PRODID:-//Plone.org//NONSGML plone.app.event//EN
X-WR-TIMEZONE:US/Pacific
BEGIN:VEVENT
SUMMARY:Written in the Snows: An Evening with Lowell Skoog\, Alpine Ski Hi
 storian
DTSTART;VALUE=DATE-TIME:20210401T190000
DTEND;VALUE=DATE-TIME:20210401T200000
DTSTAMP;VALUE=DATE-TIME:20260420T234014Z
UID:6463f7e9ded94824bfb78fc3f458d0d4@localhost:6081
CREATED;VALUE=DATE-TIME:20210212T205643Z
DESCRIPTION:On April 1st\, 7pm\, join Lowell Skoog\, a renowned local moun
 tain historian\, for an intimate conversation with author Malcolm Bates ab
 out the rich history of the past century of Northwest ski culture. 
LAST-MODIFIED;VALUE=DATE-TIME:20210401T223115Z
LOCATION:Virtual Event
URL:https://www.mountaineers.org/locations-lodges/seattle-program-center/e
 vents/lowell-skoog-event
END:VEVENT
BEGIN:VTIMEZONE
TZID:America/Los_Angeles
X-LIC-LOCATION:America/Los_Angeles
BEGIN:DAYLIGHT
DTSTART;VALUE=DATE-TIME:20210314T030000
TZNAME:PDT
TZOFFSETFROM:-0800
TZOFFSETTO:-0700
END:DAYLIGHT
END:VTIMEZONE
END:VCALENDAR
