BEGIN:VCALENDAR
VERSION:2.0
PRODID:-//Plone.org//NONSGML plone.app.event//EN
X-WR-TIMEZONE:US/Pacific
BEGIN:VEVENT
SUMMARY:Lightweight Backpack Food Planning and Preparation:  Practice\, sh
 are and taste!
DTSTART;VALUE=DATE-TIME:20240417T183000
DTEND;VALUE=DATE-TIME:20240417T203000
DTSTAMP;VALUE=DATE-TIME:20260423T062502Z
UID:0aebe27434234ccd868f6779f767220d@localhost:6081
CREATED;VALUE=DATE-TIME:20231209T231400Z
DESCRIPTION:Practice the food planning principles from the Lightweight Foo
 d Planning seminar and share some favorite trail breakfasts\, lunches and 
 dinners with your fellow students!  Spots limited to people who attended t
 he Lightweight Backpack Food Planning and Prep seminar on Apr 9.  EVERYONE
  IS EXPECTED TO CONTRIBUTE APPROX 20-30 BITES OF 1 OR 2 FAVORITES!
LAST-MODIFIED;VALUE=DATE-TIME:20240412T135823Z
LOCATION:Seattle Program Center
URL:https://www.mountaineers.org/locations-lodges/seattle-program-center/e
 vents/lightweight-backpack-food-planing-and-preparation-practice-share-and
 -taste
END:VEVENT
BEGIN:VTIMEZONE
TZID:America/Los_Angeles
X-LIC-LOCATION:America/Los_Angeles
BEGIN:DAYLIGHT
DTSTART;VALUE=DATE-TIME:20240310T030000
TZNAME:PDT
TZOFFSETFROM:-0800
TZOFFSETTO:-0700
END:DAYLIGHT
END:VTIMEZONE
END:VCALENDAR
