BEGIN:VCALENDAR
VERSION:2.0
PRODID:-//Plone.org//NONSGML plone.app.event//EN
X-WR-TIMEZONE:US/Pacific
BEGIN:VEVENT
SUMMARY:Lauren Hopp YMCA- Mountain Workshop
DTSTART;VALUE=DATE-TIME:20140729T120000
DTEND;VALUE=DATE-TIME:20140729T140000
DTSTAMP;VALUE=DATE-TIME:20260420T073205Z
UID:465bb639a0234b5d918ccde2cd3d6798@localhost:6081
CREATED;VALUE=DATE-TIME:20140711T213719Z
DESCRIPTION:Lauren Hopp YMCA
LAST-MODIFIED;VALUE=DATE-TIME:20150307T014756Z
LOCATION:Seattle Program Center
URL:https://www.mountaineers.org/locations-lodges/seattle-program-center/e
 vents/lauren-hopp-ymca-mountain-workshop
END:VEVENT
BEGIN:VTIMEZONE
TZID:America/Los_Angeles
X-LIC-LOCATION:America/Los_Angeles
BEGIN:DAYLIGHT
DTSTART;VALUE=DATE-TIME:20140309T030000
TZNAME:PDT
TZOFFSETFROM:-0800
TZOFFSETTO:-0700
END:DAYLIGHT
END:VTIMEZONE
END:VCALENDAR
