BEGIN:VCALENDAR
VERSION:2.0
PRODID:-//Plone.org//NONSGML plone.app.event//EN
X-WR-TIMEZONE:US/Pacific
BEGIN:VEVENT
SUMMARY:Kayaking the World with Justine Curgenven
DTSTART;VALUE=DATE-TIME:20180122T190000
DTEND;VALUE=DATE-TIME:20180122T213000
DTSTAMP;VALUE=DATE-TIME:20260420T234142Z
UID:be9c342e16c04e5e9e14fbcfe66cc0e1@localhost:6081
CREATED;VALUE=DATE-TIME:20171119T195336Z
DESCRIPTION:Join The Mountaineers and Washington Water Trails for an amazi
 ng evening with award-winning filmmaker and kayaker Justine Curgenven as s
 he discusses her adventures from around the globe. 
LAST-MODIFIED;VALUE=DATE-TIME:20180108T205443Z
LOCATION:Seattle Program Center
URL:https://www.mountaineers.org/locations-lodges/seattle-program-center/e
 vents/kayaking-the-world-with-justine-curgenven-1
END:VEVENT
BEGIN:VTIMEZONE
TZID:America/Los_Angeles
X-LIC-LOCATION:America/Los_Angeles
BEGIN:STANDARD
DTSTART;VALUE=DATE-TIME:20171105T010000
TZNAME:PST
TZOFFSETFROM:-0700
TZOFFSETTO:-0800
END:STANDARD
END:VTIMEZONE
END:VCALENDAR
